Workbook

Sheet ANEXO 
A1: GOBIERNO DEL ESTADO DE BAJA CALIFORNIA
A2: COMITÉ DE ADQUISICIONES, ARRENDAMIENTOS Y SERVICIOS DEL PODER EJECUTIVO DEL GOBIERNO DEL ESTADO DE BAJA CALIFORNIA
A3: “Adquisición De Mobiliario Educacional Y De Oficina Para El Colegio De Estudios Científicos Y Tecnológicos De Baja California“
B4: Anexo 1
A6: PARTIDA | B6: CONCEPTO | C6: DESCRIPCIÓN | D6: UNIDAD | E6: CANTIDAD TOTAL
A7: 1 | B7: MESABANCO | C7: VER ESPECIFICACIONES DETALLADAS | D7: PIEZA | E7: ='PROGRAMA DE DISTRIBUCION'!C45 -> 675
A8: 2 | B8: PINTARRÓN | C8: Pizarrón metálico de 3000x900 mm y 9 mm de espesor, esmaltado color blanco para salón de clases, fabricado en lámina galvanizada calibre 24 marco formado por 4 canales de sección “H” de aluminio anodizado natural mate, con acabado en lámina porcelanizada color blanco, se debe considerar el suministro, flete, traslado del mueble dentro del plantel, accesorios de fijación, colocación, maniobras necesarias. | D8: PIEZA | E8: ='PROGRAMA DE DISTRIBUCION'!D45 -> 34
A9: 3 | B9: SILLA INDIVIDUAL (SILLA ESCOLAR APILABLE) | C9: SILLA METALICA CON ASIENTO Y RESPALDO DE POLIPROPILENO. Estructura: Tubo de acero redondo de 25.04 mm (1") calibre 18, acabado con pintura termoplástica micropulverizada. Asiento: En polipropileno de alto impacto, con aditivo antiestático, texturizado en la cara expuesta, con forma anatómica. Respaldo: En polipropileno de alto impacto, con aditivo antiestático, texturizado en la cara expuesta, con forma anatómica. Regatones: Semiesféricos de poliopropileno de alto impacto. Se debe considerar el suministro, flete, traslado del mueble dentro del plantel. | D9: PIEZA | E9: ='PROGRAMA DE DISTRIBUCION'!E45 -> 115
A10: 4 | B10: BANCO DE LABORATORIO | C10: BANCO METÁLICO CON ASIENTO DE POLIPROPILENO 313 mm DE DIÁMETRO x 700 mm.Fabricada con 4 tubos redondos de 19.05 mm (3/4") calibre 18 y 700 mm de largo, inserto para enlazarlo de tubo redondo de 15.87 mm (5/8") calibre 18. Asiento de 313 mm de diámetro, en polipropileno de alto impacto con aditivo antiestático. 4 Regatones de embutir semiesférico de polipropileno de alto impacto adheridos con pegamento de contacto. Se debe considerar el suministro, traslado del mueble dentro del plantel, maniobras necesarias. (De acuerdo a los criterios técnicos para las acciones del Programa Escuelas Dignas.). | D10: PIEZA | E10: ='PROGRAMA DE DISTRIBUCION'!F45 -> 130

Sheet MESABANCO
A1: PARTIDA 1
B2: MESABANCO
A3: CANTIDAD: | B3: ='PROGRAMA DE DISTRIBUCION'!C45 -> 675
A4: CARACTERÍSTICAS GENERALES: | B4: SILLA DE CONCHA CON PARRILLA Y PALETA ESCOLAR ADULTO
A5: MEDIDAS: | B5: Altura: 81 cm Altura asiento: 47 cm Asiento 42 cm de fondo x40 cm de ancho Respaldo 40cm de ancho x42 cm de altura Abertura entre patas frontales: 51 cm Abertura entre patas laterales: 54 cm Tolerancia en medidas +-5% en dimensiones generales, no se acepta tolerancia en calibres y espesores.
A6: ESTRUCTURA : | B6: Fabricación totalmente con perfil de acero tubular redondo de 1” Ø (25.4 mm.) en calibre 14 a 16. Se evaluará estabilidad y funcionalidad de muestra física para aceptar o desechar propuesta.
A7: ARMADO : | B7: Para la unión de todos los elementos metálicos de la estructura se empleara soldadura sistema M.I.G. (metal inerte gas) de micro alambre que no deja escoria, previamente decapada.
A8: PARRILLA O PORTA -ÚTILES: | B8: Parrilla o porta-útiles fabricado con forma de “U” en acero redondo macizo de 3/8” (0.9cm.) Calibre mínimo: 16. Se le colocarán 5 piezas de acero redondo de ¼” (0.6cm.) separados entre sí a cada 5.5 cm. deberán ser soldados al paño interior de la "U" de 3/8 " Ø. Los aceros redondos no deberán presentar salientes que ponga en riesgo la integridad física del usuario.
A9: ASIENTO Y RESPALDO INTEGRADO : | B9: Asiento y respaldo integrado en una pieza con forma anatómica doble pares. Fabricado en plástico de polietileno de alta densidad con resistencia al impacto, por proceso de extrusión soplo con aditivo antiestático y de no marcado (non blush), texturizado antiderrapante en toda la pieza, anverso y reverso, llevará enervado de refuerzo en la parte inferior con base para albergar 4 tuercas galvanizadas hexagonales tipo flange de cuerda milimetrica medida 6mm, insertadas en la misma pieza plástica durante el proceso de soplo.
A10: PALETA : | B10: Inyectada en polipropileno de alto impacto. medidas: De 49.0 cm. de largo, por 33.0cm. x 33.0 cm. de cuadro base, con 10.5 cm. de codo Adicionalmente la estructura de refuerzo en su parte posterior, llevara retículas de refuerzos horizontales y verticales del mismo material.
A11: ENSAMBLADO: | B11: Se aceptarán: Tornillos tipo allen milimétrica de cabez plana de cruz, tornillos autosoldables y pijas galvanizadas. Se evaluará la adecuada sujeción de asiento respaldo con estructura, así como de la paleta con la estructura. Deberá entregarse mesabancos armados en domicilio.
A12: ACABADOS : | B12: La estructura se terminará con pintura epoxi-poliester, micropulverizada aplicada con sistema electro estático previo tratamiento de desengrasado y fosfatizado, semi mate horneada a 200 grados centígrados color negro.
A13: EMPAQUE : | B13: El adecuado para el transporte y almacenaje, que garantice la conservación del bien.
A14: OTROS : | B14: Se requiere presentar muestra física para evaluación. La entrega deberá ser en el domicilio especificado.
A15: GARANTÍA: | B15: 2 AÑOS

Sheet PINTARRON INIFE
A1: PARTIDA 2
B2: PINTARRON
A3: CANTIDAD: | B3: ='PROGRAMA DE DISTRIBUCION'!D45 -> 34
A4: CARACTERÍSTICAS GENERALES: | B4: GERERALIDADES Pintarrón metálico de 3000x900 mm y 9 mm de espesor, esmaltado color blanco para salón de clases, fabricado en lámina galvanizada calibre 24 marco formado por 4 canales de sección “H” de aluminio anodizado natural mate, con acabado en lámina porcelanizada color blanco, se debe considerar el suministro, flete, traslado del mueble dentro del plantel, accesorios de fijación, colocación, maniobras necesarias. a). Los dobleces deberán ir bien alineados y sin deformaciones según los radios ó ángulos del doblez. 2. Dimensiones minimas generales: 3000 mm de longitud total, 9 mm de espesor, 900 mm altura total.
A6: MARCO Y ESTRUCTURA: | B6: 3. Estructura: a) Marco: formado por 4 perfiles de aluminio anodizado natural mate b) Laterales y superior: 3 perfiles de aluminio de sección “U” (19 x 17 x 19 mm) con cortes rectos para formar lenguetas. c) Inferior: 1 perfil de aluminio de sección “U” (33 x 86 mm) con portagis integrado d) Base: Tablero compuesto de fibras de madera aglutinada de densidad media (MDF) de 12 mm adherido a hoja de lámina por celanizada con pegamento contacto No.4518 de 3 M o similar. e) Refuerzos: 5 piezas de lámina galvanizada calibre 24 de 100 mm de ancho por la altura del pizarrón adheridos con pegamento contacto No. 4518 de 3M o similar.
A7: CARACTERÍSTICAS ADICIONALES: | B7: 4. Elementos de Fijación: El sistema de unión a base de adhesivo No.4518 de 3 M o similar, unir para la hoja de lámina porcelanizada y la hoja de tablero compuesto de fibras de madera aglutinada de densidad media (MDF). El marco de aluminio deberá unirse por medio de grapas de acero por la parte posterior del pizarrón en el perfil de aluminio. El marco a lo jará las hojas de lámina y la hoja de tablero compuesto de fibras de madera aglutinada de densidad media (MDF). El marco debe llevar ocho barrenos avellanados, cuatro en la sección superior y cuatro en los laterales para sujetar el pizarrón al muro. 5. Colocación: Se fijará al muro con 8 tornillos cadminizados para madera de ¼” (0.6cm) por 1½” (3.6cm) cabeza plana y taquete de nylonde ¼” (0.6cm) No. S-8, se debe entregar totalmente en samblado, con instructivo de colocación, tornillería y taquetes en bolsa de plástico sellada. 6.Acabado: textura libre de imperfecciones, antirreflejante de bajo resplandor, que en una superficie con ángulo de 60° no tiene que rebasar 80 GU (Grados de brillantez
A8: OTROS: | B8: 1. Las dimensiones consignadas son las nominales, se podrán aceptar variaciones en las dimensiones del diseño, siempre y cuando estas no afecten los requerimientos antropométricos. Tolerancia: Se podrán aceptar variaciones en las dimensiones de (+/-) 50 mm. 2. Se podrá utilizar todo aquel mobiliario y/o equipamiento que sea similar en especificaciones, características y calidad; cumpliendo con los lineamientos y la normatividad vigente del INIFED.
A9: GARANTÍA: | B9: 1 AÑO
A23: NORMAS Y ESPECIFICACIONES TECNICAS DE MOBILIARIO Y EQUIPO INIFED
A24: CLAVE: MC-M-0054

Sheet SILLA INDIVIDUAL
B1: PARTIDA 3
B2: SILLA METALICA CON ASIENTO Y RESPALDO DE POLIPROPILENO
A3: CANTIDAD: | B3: ='PROGRAMA DE DISTRIBUCION'!E45 -> 115
A4: CARACTERÍSTICAS GENERALES: | B4: 1. Generalidades: a). Las uniones de los elementos componentes deberán ser maquinados para un perfecto ensamble, a base de soldadura con la misma resistencia mecánica del material base como mínimo con soldadura en cordones completos, uniformes, desbastados y pulidos para un buen acabado. b). Los dobleces deberán ir bien alineados y sin deformaciones según los radios ó ángulos del doblez. c).La pintura deberá ser micropulverizada epóxica horneada en un rango de 200°C a 230°C, deberá garantizar resistencia a la adherencia, al impacto y al rayado de un lápiz 5H como mínimo. 2. Dimensiones minimas generales: 400 mm de ancho, 545 fondo total, 450 mm altura asiento, 780 mm de altura total 3. Estructura: Formada por dos asnillas (4 patas) dobladas en forma de "U" fabricado en tubo de acero redondo de 25.4 mm (1") calibre 18, una pieza doblada en forma especial para formar el soporte del respaldo, completado con un refuerzo posterior en tubular redondo de 19 mm (3/4") calibre 18. 4. Asiento: Inyectado en polipropileno de alto impacto, con aditivo antiestático y antiderrapante texturizado en la cara expuesta, con forma anatómica, con canto perimetral en forma de semi rizo boleado y las esquinas redondeadas, en la parte posterior llevará orejas y refuerzo a base de nervaduras para sujeción de la estructura, con las siguientes dimensiones: 420 mm de fondo, 400 mm de ancho. 5. Respaldo: Inyectado en polipropileno de alto impacto, con aditivo antiestático y antiderrapante texturizado en la cara expuesta, con forma anatómica, con 2 cavidades laterales para insertar el respaldo a la estructura, con nervaduras de refuerzo a manera de marco perimetral, con las siguientes dimensiones: 390 mm de ancho, 270 mm de altura. 6. Papelera fija: Fabricada en acero redondo macizo de 9.0 mm (3/8") y 5 piezas de acero redondo de 6 mm (1/4") distribuidas uniformemente, electrosoldadas, los aceros redondos no deberán presentar salientes que pongan en riesgo la integridad física del usuario. 7. Sistema de Fijación: El asiento y el respaldo se sujetara a la estructura por medio de remaches tipo "Pop" ala ancha aluminio - acero de forma posterior en el respaldo y por la parte inferior en el asiento. 8. Elementos de Fijación: Por medio de remaches tipo "Pop" ala ancha aluminio - acero, cuatro regatones semiesféricos de polipropileno de alto impacto adheridos con pegamento de contacto. 9. Acabados: Todas las partes metálicas previo desengrasado y fosfatizado son protegidas con pintura termoplástica epóxica color negro aplicada con equipo electrostático y horneada, todas las partes metálicas se unen entre sí con soldadura de microalambre aplicada con sistema MIG (Gas inerte de metal) que no deja escoria.
A6: OTROS: | B6: 1. Las dimensiones consignadas son las nominales, se podrán aceptar variaciones en las dimensiones del diseño, siempre y cuando estas no afecten los requerimientos antropométricos. Tolerancia: Se podrán aceptar variaciones en las dimensiones de (+/-) 50 mm. 2. Se podrá utilizar todo aquel mobiliario y/o equipamiento que sea similar en especificaciones, características y calidad; cumpliendo con los lineamientos y la normatividad vigente del INIFED.
A7: GARANTÍA: | B7: 3 AÑOS
A10: NORMAS Y ESPECIFICACIONES TECNICAS DE MOBILIARIO Y EQUIPO INIFED
A11: CLAVE: MC-M-0139

Sheet BANCO LABORATORIO
A1: PARTIDA 7
B2: BANCO DE LABORATORIO
A3: CANTIDAD: | B3: ='PROGRAMA DE DISTRIBUCION'!F45 -> 130
A4: CARACTERÍSTICAS GENERALES: | B4: BANCO METÁLICO CON ASIENTO DE POLIPROPILENO 313 MM DE DIÁMETRO X 700 mm 1. Generalidades: a). Las uniones de los elementos componentes deberán ser maquinados para un perfecto ensamble, a base de soldadura con la misma resistencia mecánica del material base como mínimo con soldadura en cordones completos, uniformes, desbastados y pulidos para un buen acabado. b). Los dobleces deberán ir bien alineados y sin deformaciones según los radios ó ángulos del doblez. c).La pintura deberá ser micropulverizada epóxica horneada en un rango de 200°C a 230°C, deberá garantizar resistencia a la adherencia, al impacto y al rayado de un lápiz 5H como mínimo. 2. Dimensiones minimas generales: 313 mm de diámetro, 700 mm altura total 3. Estructura: Fabricada con 4 tubos redondos de 19.05 mm (3/4") cal. 18 y 700 mm de largo, inserto para enlazarlo de tubo redondo de 15.87 mm. (5/8") calibre 18. 4. Asiento: de 313 mm de diámetro, en polipropileno de alto impacto con aditivo antiestático, troquelado a una lámina de acero calibre 16. 5. Elementos de Fijación: Cuatro remaches tipo pop NO-AS-45 de aluminio anodizado en color negro diámetro 3.18 mm (1/8") fija el capuchón al asiento.
A6: ACABADOS: | B6: 6. Acabados: Todas las partes metálicas previo desengrasado y fosfatizado son protegidas con pintura termoplástica epóxica color negro aplicada con equipo electrostático y horneada, todas las partes metálicas se unen entre sí con soldadura de microalambre aplicada con sistema MIG que no deja escoria.
A7: OTROS: | B7: 1. Las dimensiones consignadas son las nominales, se podrán aceptar variaciones en las dimensiones del diseño, siempre y cuando estas no afecten los requerimientos antropométricos. Tolerancia: Se podrán aceptar variaciones en las dimensiones de (+/-) 50 mm. 2. Se podrá utilizar todo aquel mobiliario y/o equipamiento que sea similar en especificaciones, características y calidad; cumpliendo con los lineamientos y la normatividad vigente del INIFED.
A8: GARANTÍA: | B8: 1 AÑOS
B22: NORMAS Y ESPECIFICACIONES TECNICAS DE MOBILIARIO Y EQUIPO INIFED
B23: CLAVE: MC-M-0009

Sheet PROGRAMA DE DISTRIBUCION
A1: GOBIERNO DEL ESTADO DE BAJA CALIFORNIA COMITÉ DE ADQUISICIONES, ARRENDAMIENTOS Y SERVICIOS DEL PODER EJECUTIVO DEL GOBIERNO DEL ESTADO DE BAJA CALIFORNIA LICITACIÓN PÚBLICA REGIONAL NO. OM-CECYTE-106-2017 “Adquisición De Mobiliario Educacional Y De Oficina Para El Colegio De Estudios Científicos Y Tecnológicos De Baja California”
A6: PROGRAMA DE DISTRIBUCION
C7: PARTIDAS
C8: 1 | D8: 2 | E8: 3 | F8: 4
A9: MUNICIPIO | B9: ASIGNACIÓN | C9: Mesabanco | D9: Pintarron | E9: Silla Individual | F9: Banco de Laboratorio | G9: DOMICILIO DE ENTREGA
A10: MEXICALI | B10: Xochimilco | C10: 40 | G10: CALZADA LAGUNA XOCHIMILCO Y BLVD. LOMBARDO TOLEDANO S/N FRACC. XOCHIMILCO C.P. 21380 Tel: 559-37-61 y 576-51-09 ext 2106, 2101 y 2102.
B11: Bella Vista | G11: CENTRAL DE LABORATORIOS Y TALLERES NO.1 AV. DE LA PAZ ENTRE NOGALES Y CALLE SALTO COL. BELLA VISTA Tel: 551-95-06 551-95-07 ext. 3201
B12: Compuertas | G12: AV. CLARIDAD S/N FRACC. NUEVO AMANECER CP. 21378. Tel: 841-53-66 841-52-96 ext: 2602 y 2603
B13: Misiones | G13: CALZ. CONTINENTE EUROPEO Y CALLE ARROYO CALAMAJUE S/N FRACC. VALLE DE LAS MISIONES C.P. 21138 Tel: 844-27-21 ext: 2801, 2802 y 2803
B14: Portales | G14: AV. FUENTE DEL SOL S/N ENTRE LAS CALLES IMAGEN Y FUENTE DE LOS DESEOS FRACC. CASA DIGNA Tel: 839-19-25
B15: Centenario | G15: AV. PRADO DEL REY ENTRE CALLE CAVANDI Y CALLE MIRABUENO S/N FRACC. VILLAS LOMAS ALTAS, MEXICALI, B.C Tel: 844-08-24 839-79-28
B16: Los Pinos | C16: 40 | D16: 5 | G16: PROLONGACIÓN RIO MAYO #501 ESQ. CON LUIS MORA COL. PRO-HOGAR C.P. 21240 Tel: 567-55-36 567-02-07 ext: 3901 y 3902
B17: Ejido Puebla | G17: AV. AMIXTLAN S/N Y CALLE RIO XOLOTLA VALLE DEL PUEBLA SEXTA SECCIÓN Tel: 592-57-88
B18: Vicente Guerrero | G18: AV. VALLE DEL SALADO Y AV. SIERRA LA TINAJA FRACC. DEL VALLE C.P. 21920 POBLADO VICENTE GUERRERO. Tel: 01(658) 517-35-45 ext. 3001
B19: San Felipe | G19: PROLONGACIÓN RIO MAYO #501 ESQ. CON LUIS MORA COL. PRO-HOGAR C.P. 21240 567-55-36 567-02-07
B20: Gpe. Victoria | G20: CALLE DE LA TIERRA Y AVE. DEL BANANO S/N , FRACCIONAMIENTO VALLE NUEVO, EJ. GUADALUPE VICTORIA. Tel: 01(658) 516-10-15 ext: 4201
B21: Oviedo Mota | G21: SECUNDARIA TÉCNICA #9 AV. FLORES MAGÓN Y CALLE SÁNCHEZ TABOADA EJIDO OVIEDO MOTA C.P. 21810. Tel: 01(658) 516-67-30
B22: Michoacan de O. | G22: PORCIÓN DE LA PARCELA ESCOLAR NO.92 (COLINDA CON LA CARRETERA ESTATAL Y PARCELA NO.91). Tel: 522-41-28
B23: Ej. Hermosillo | G23: Av. Emiliano Zapata No.114 entre Lázaro Cárdenas y Baja California. Tel: 01(658) 516-71-02
A24: TIJUANA | B24: Playas de Tijuana | C24: 40 | D24: 5 | G24: AV. PASEO CORONADO S/N ENTRE AV. SAN REMO Y SAN MARINO C.P 22666 COL. EL ROSARIO. Tel: 01 (664) 630-01-67 609-49-84
B25: Zona Río | C25: 80 | D25: 5 | G25: PASEO DEL RIO S/N COL. RÍO TIJUANA 3RA. ETAPA C.P. 22226RI. Tel: 01(664) 625-12-71 969-50-77 ext: 2701, 2702 y 2703
B26: Cachanilla | C26: 40 | G26: AV. CONQUISTADORES S/N COL. INFONAVIT CACHANILLAS C.P.22647 Tel: 01(664) 626-33-00 626-32-86 ext: 3501 y 3502
B27: Villas del Sol | C27: 80 | G27: PRIVADA PASEO DEL SOL S/N FRACC. VILLAS DEL SOL C.P. 22205 Tel: 01(664) 972-54-10 972-54-11 ext: 2501, 2503 y 2505
B28: El Florido | C28: 80 | F28: 90 | G28: BLVD. EL REFUGIO Y NECTARINA S/N FRACC. LAS ABEJAS C.P. 22245 Tel: 01 (664) 661-46-42 701-27-45 ext: 2202
B29: El Niño | G29: CALLE H CUERPO DE BOMBEROS DE TIJUANA S/N COL. EL NIÑO C.P. 22330. Tel: 01 (664) 650-63-59 650-62-37 ext: 2901 al 2904
B30: Pacifico | C30: 80 | G30: AV. REPÚBLICA DE COLOMBIA #42 FRACC. ALFA PANAMERICANO C.P. 22647 Tel: 01(664) 637-23-25 637-17-07 Ext. 2302 y 2303
B31: Lázaro Cárdenas | G31: AV. EMILIANO ZAPATA PARCELA 119 EJIDO LÁZARO CÁRDENAS C.P. 22654. Tel: 01(664) 386-80-43 ext: 4701
B32: Las Aguilas | G32: CALLE B LOTE 4 MANZANA 5 FRACC.GRANGAS FAMILIARES DIVISIÓN DEL NORTE. Tel: 01(664) 650-80-33 191-71-83 ext: 3401 al 3402
B33: La Presa | C33: 80 | D33: 5 | G33: CALLE DE LAS PIÑITAS S/N FRACC. LOMAS DE LA PRESA DELEGACIÓN DE LA PRESA C.P. 22125. Tel: 01 (664) 645-84-42 ext: 4101
B34: Altiplano | F34: 40 | G34: ECOLOGISTA S/N, COL. ALTIPLANO C.P. 22204. Tel: 01(664) 650-92-84 Ext: 4001
B35: Urbi Villas | D35: 6 | G35: PASEO DE LOS VOLCANES #12362 FRACC. URBI VILLA DEL PRADO 2DA. SECCIÓN C.P. 22170. Tel: 01(664) 979-80-16
A36: ENSENADA Y SAN QUINTIN | B36: Ensenada | C36: 60 | D36: 2 | G36: PLANTEL CECYTE BC ENSENADA EJE HIGUERAS Y GOLFO DE SANTA CLARA S/N, FRACC. POPULAR 89 C.P. 22810, TEL. (646)174-93-47/1789656
B37: La Mision | C37: 40
B38: Erendira | E38: 30
B39: San Antonio de Las Minas | D39: 1 | E39: 30
B40: Zorrillo | D40: 2 | E40: 20
B41: San Quintin | D41: 3
B42: Bahía de los Angeles | E42: 15
B43: Villa de Jesús María
B44: Diaz Ordaz | C44: 15 | E44: 20
A45: TOTALES= | C45: =SUM(C10:C44) -> 675 | D45: =SUM(D10:D44) -> 34 | E45: =SUM(E10:E44) -> 115 | F45: =SUM(F10:F43) -> 130

Sheet ANEXO 2 PROGRAMA DE ENTREGAS
A1: GOBIERNO DEL ESTADO DE BAJA CALIFORNIA COMITÉ DE ADQUISICIONES, ARRENDAMIENTOS Y SERVICIOS DEL PODER EJECUTIVO DEL GOBIERNO DEL ESTADO DE BAJA CALIFORNIA LICITACIÓN PÚBLICA REGIONAL NO. OM-CECYTE-106-2017 “Adquisición De Mobiliario Educacional Y De Oficina Para El Colegio De Estudios Científicos Y Tecnológicos De Baja California”
A5: ANEXO 2 PROGRAMA DE ENTREGAS
B8: Licitante: | L8: Fecha:
B10: Domicilio: | L10: Hoja ______ de _______
B12: Representante: | L12: Firma
A14: PARTIDA | B14: DURACIÓN DÍAS | C14: UNIDAD | D14: CANT | E14: DESCRIPCIÓN | F14: LUGAR DE ENTREGA | G14: DIAS NATURALES
G15: 1 | H15: 2 | I15: 3 | J15: 4 | K15: 5 | L15: 6 | M15: 7 | N15: 8 | O15: 9 | P15: 10 | Q15: 11 | R15: 12 | S15: 13 | T15: 14 | U15: 15 | V15: 16 | W15: 17 | X15: 18 | Y15: 19 | Z15: 20 | AA15: 21 | AB15: 22 | AC15: 23 | AD15: 24 | AE15: 25 | AF15: =AE15+1 -> 26 | AG15: =AF15+1 -> 27 | AH15: =AG15+1 -> 28 | AI15: =AH15+1 -> 29 | AJ15: =AI15+1 -> 30
A17: 1 | B17: 30 | C17: PIEZA | D17: ='PROGRAMA DE DISTRIBUCION'!C45 -> 675 | E17: MESABANCOS | F17: DE ACUERDO A DISTRIBUCIÓN ESPECIFICADA EN ANEXO
A18: 2 | B18: 30 | C18: PIEZA | D18: ='PROGRAMA DE DISTRIBUCION'!D45 -> 34 | E18: PINTARRON | F18: DE ACUERDO A DISTRIBUCIÓN ESPECIFICADA EN ANEXO
A19: 3 | B19: 30 | C19: PIEZA | D19: ='PROGRAMA DE DISTRIBUCION'!E45 -> 115 | E19: SILLAS INDIVIDUAL | F19: DE ACUERDO A DISTRIBUCIÓN ESPECIFICADA EN ANEXO
A20: 4 | B20: 30 | C20: PIEZA | D20: ='PROGRAMA DE DISTRIBUCION'!F45 -> 130 | E20: BANCO DE LABORATORIO | F20: DE ACUERDO A DISTRIBUCIÓN ESPECIFICADA EN ANEXO
B23: Nota: El presente formato podrá ser reproducido por cada participante en el modo que estime conveniente, debiendo respetar su contenido, y el orden indicado.
